BEGIN:VCALENDAR
VERSION:2.0
PRODID:-//Water and Education International - ECPv6.15.13.1//NONSGML v1.0//EN
CALSCALE:GREGORIAN
METHOD:PUBLISH
X-WR-CALNAME:Water and Education International
X-ORIGINAL-URL:https://weihumanitarian.org
X-WR-CALDESC:Events for Water and Education International
REFRESH-INTERVAL;VALUE=DURATION:PT1H
X-Robots-Tag:noindex
X-PUBLISHED-TTL:PT1H
BEGIN:VTIMEZONE
TZID:America/Los_Angeles
BEGIN:DAYLIGHT
TZOFFSETFROM:-0800
TZOFFSETTO:-0700
TZNAME:PDT
DTSTART:20230312T100000
END:DAYLIGHT
BEGIN:STANDARD
TZOFFSETFROM:-0700
TZOFFSETTO:-0800
TZNAME:PST
DTSTART:20231105T090000
END:STANDARD
BEGIN:DAYLIGHT
TZOFFSETFROM:-0800
TZOFFSETTO:-0700
TZNAME:PDT
DTSTART:20240310T100000
END:DAYLIGHT
BEGIN:STANDARD
TZOFFSETFROM:-0700
TZOFFSETTO:-0800
TZNAME:PST
DTSTART:20241103T090000
END:STANDARD
BEGIN:DAYLIGHT
TZOFFSETFROM:-0800
TZOFFSETTO:-0700
TZNAME:PDT
DTSTART:20250309T100000
END:DAYLIGHT
BEGIN:STANDARD
TZOFFSETFROM:-0700
TZOFFSETTO:-0800
TZNAME:PST
DTSTART:20251102T090000
END:STANDARD
BEGIN:DAYLIGHT
TZOFFSETFROM:-0800
TZOFFSETTO:-0700
TZNAME:PDT
DTSTART:20260308T100000
END:DAYLIGHT
BEGIN:STANDARD
TZOFFSETFROM:-0700
TZOFFSETTO:-0800
TZNAME:PST
DTSTART:20261101T090000
END:STANDARD
END:VTIMEZONE
BEGIN:VEVENT
DTSTART;VALUE=DATE:20240608
DTEND;VALUE=DATE:20240901
DTSTAMP:20260423T085741
CREATED:20240610T021642Z
LAST-MODIFIED:20250319T063917Z
UID:19997-1717804800-1725148799@weihumanitarian.org
SUMMARY:Water and Education International 5th Annual Scholarship for High School Students
DESCRIPTION:Water and Education International 5th Annual Scholarship Program \nWEI 2024 Scholarship Program is open and accepting applications. \nScholarships are open to Graduating High School Seniors from Alameda\, Contra Costa and Solano Counties. This also includes students who attended/graduated from a Virtual High School. \nApplication deadline is Thursday\, August 15\, 2024 at 5:00 p.m. \nPlease View and Download the application below \nWEI Scholarship Application final WORD 2024 jr \n 
URL:https://weihumanitarian.org/event/water-and-education-international-5th-annual-scholarship-for-high-school-students/
CATEGORIES:Education
ATTACH;FMTTYPE=image/png:https://weihumanitarian.org/wp-content/uploads/2024/06/WEI-5th-Annual-Scholarship-pic.png
END:VEVENT
BEGIN:VEVENT
DTSTART;TZID=America/Los_Angeles:20250316T080000
DTEND;TZID=America/Los_Angeles:20250531T170000
DTSTAMP:20260423T085741
CREATED:20250317T055613Z
LAST-MODIFIED:20250429T012934Z
UID:20116-1742112000-1748710800@weihumanitarian.org
SUMMARY:Water and Education International 6th Annual Scholarship for High School Students
DESCRIPTION:Water and Education International 2025 – 6th Annual Scholarship Program \nWEI 2025 Scholarship Program is open and accepting applications. \nScholarships are open to graduating high school seniors who currently attend a high school in Solano County\, graduate in 2025\, and meet the following requirements: \nMust have acquired acceptance to and be enrolled as a full-time student in an accredited post-high school education program\, which may include a college\, university\, business\, technical\, or trade school for the Fall semester of 2025. \nApplication deadline is Sunday\, June 1\, 2025 at 5:00 p.m. \nPlease View and Download the application below: \nWEI Scholarship Application \nhttps://weihumanitarian.org/wp-content/uploads/2024/06/WEI-Scholarship-Application-2025_Revised-2.20.25.pdf \n  \n  \n  \n 
URL:https://weihumanitarian.org/event/6th-annual-scholarship-for-high-school-students/
CATEGORIES:Education
ATTACH;FMTTYPE=image/png:https://weihumanitarian.org/wp-content/uploads/2025/04/WEI-6th-Annual-Scholarship-Post.png
END:VEVENT
BEGIN:VEVENT
DTSTART;TZID=America/Los_Angeles:20250628T080000
DTEND;TZID=America/Los_Angeles:20250628T100000
DTSTAMP:20260423T085741
CREATED:20250612T235321Z
LAST-MODIFIED:20250614T050407Z
UID:20164-1751097600-1751104800@weihumanitarian.org
SUMMARY:WEI Flapjack Fundraiser Event
DESCRIPTION:Join us for a delicious cause! \nEnjoy a tasty breakfast at Applebee’s while supporting WEI \nWhen: June 28\, 2025 \nWhere: Applebee’s \n1041 Admiral Callaghan Ln \nVallejo\, CA 94591 \nTime: 8 am – 10 am \nCost: $25 per person \n  \n  \n 
URL:https://weihumanitarian.org/event/wei-flipjack-fundraiser-event/
ATTACH;FMTTYPE=image/jpeg:https://weihumanitarian.org/wp-content/uploads/2025/06/WEI-Flapjack-Fundraiser.jpeg
END:VEVENT
END:VCALENDAR